BEGIN:VCALENDAR
VERSION:2.0
PRODID:-//TRIP - ECPv6.15.10//NONSGML v1.0//EN
CALSCALE:GREGORIAN
METHOD:PUBLISH
X-ORIGINAL-URL:https://transactionriskprofessionals.com
X-WR-CALDESC:Events for TRIP
REFRESH-INTERVAL;VALUE=DURATION:PT1H
X-Robots-Tag:noindex
X-PUBLISHED-TTL:PT1H
BEGIN:VTIMEZONE
TZID:UTC
BEGIN:STANDARD
TZOFFSETFROM:+0000
TZOFFSETTO:+0000
TZNAME:UTC
DTSTART:20180101T000000
END:STANDARD
END:VTIMEZONE
BEGIN:VEVENT
DTSTART;TZID=UTC:20191010T080000
DTEND;TZID=UTC:20191011T170000
DTSTAMP:20260425T154729
CREATED:20230401T044417Z
LAST-MODIFIED:20230401T044417Z
UID:422-1570694400-1570813200@transactionriskprofessionals.com
SUMMARY:ACI - M&A\, RWI and Transactional Risk Insurance
DESCRIPTION:https://www.americanconference.com/ma-rwi-transactional-risk-insurance-2/
URL:https://transactionriskprofessionals.com/event/aci-ma-rwi-and-transactional-risk-insurance/
ATTACH;FMTTYPE=image/jpeg:https://transactionriskprofessionals.com/wp-content/uploads/2023/04/43470059_10155622599946969_9139209421090455552_n-scaled.jpg
END:VEVENT
BEGIN:VEVENT
DTSTART;TZID=UTC:20190521T123000
DTEND;TZID=UTC:20190522T173000
DTSTAMP:20260425T154729
CREATED:20230401T045537Z
LAST-MODIFIED:20230401T045537Z
UID:433-1558441800-1558546200@transactionriskprofessionals.com
SUMMARY:Execusummit - 4th Annual Reps & Warranties and Transactional Liability Insurance ExecuSummit
DESCRIPTION:Mohegan Sun (map) \n\n\n\n\n\n\nhttp://www.repsandwarrantiesconference.com/
URL:https://transactionriskprofessionals.com/event/execusummit-4th-annual-reps-warranties-and-transactional-liability-insurance-execusummit/
ATTACH;FMTTYPE=image/jpeg:https://transactionriskprofessionals.com/wp-content/uploads/2023/04/AdobeStock_90921785.jpeg
END:VEVENT
BEGIN:VEVENT
DTSTART;TZID=UTC:20190227T143000
DTEND;TZID=UTC:20190227T173000
DTSTAMP:20260425T154729
CREATED:20230401T045837Z
LAST-MODIFIED:20230401T045837Z
UID:435-1551277800-1551288600@transactionriskprofessionals.com
SUMMARY:Mayer Brown's - New York Transactional Liability Insurance Roundtable
DESCRIPTION:For additional information about this event\, please contact Laura Movva at lmovva@mayerbrown.com or +1 212 506 2330. \nVisit us at mayerbrown.com.
URL:https://transactionriskprofessionals.com/event/mayer-browns-new-york-transactional-liability-insurance-roundtable/
ATTACH;FMTTYPE=image/jpeg:https://transactionriskprofessionals.com/wp-content/uploads/2023/04/images.jpg
END:VEVENT
END:VCALENDAR